BEGIN:VCALENDAR
VERSION:2.0
PRODID:-//AfD Kreisverband Starnberg - ECPv5.3.0//NONSGML v1.0//EN
CALSCALE:GREGORIAN
METHOD:PUBLISH
X-WR-CALNAME:AfD Kreisverband Starnberg
X-ORIGINAL-URL:https://afd-starnberg.de
X-WR-CALDESC:Veranstaltungen für AfD Kreisverband Starnberg
BEGIN:VTIMEZONE
TZID:UTC
BEGIN:STANDARD
TZOFFSETFROM:+0000
TZOFFSETTO:+0000
TZNAME:UTC
DTSTART:20260101T000000
END:STANDARD
END:VTIMEZONE
BEGIN:VEVENT
DTSTART;TZID=UTC:20260304T140000
DTEND;TZID=UTC:20260304T180000
DTSTAMP:20260421T075521
CREATED:20260220T155238Z
LAST-MODIFIED:20260220T155301Z
UID:1039-1772632800-1772647200@afd-starnberg.de
SUMMARY:Infostand in Krailling am 4. März 2026
DESCRIPTION:Der Kreisverband Starnberg lädt zum Infostand nach Krailling am 4. März von 14 bis 18:00 Uhr in der Margaretenstraße 53 A ein.
URL:https://afd-starnberg.de/event/infostand-in-krailling-am-4-maerz-2026
END:VEVENT
END:VCALENDAR